BEGIN:VCALENDAR
VERSION:2.0
PRODID:www.coaching-supervision.jetzt
METHOD:PUBLISH
BEGIN:VEVENT
URL:https://coaching-supervision.jetzt/kurs/fuehren-beraten-handeln/
UID:18497191241@coaching-supervision.jetzt
LOCATION:Mattli in 6443 Morschach - Vierwaldstättersee
SUMMARY:SOUVERäN FüHREN – KOMPETENT BERATEN – SICHER HANDELN
DESCRIPTION:Meditation und Kontemplation\n---------------------------------------\nMenschen haben zwei Ohren und nur einen Mund.\n\nUnd doch reden wir oft mehr, als wir hören.\n\nWie das gemeinsame Meditieren von Bibeltexten die eigene Hörfähigkeit verfeinert.
CLASS:PUBLIC
DTSTART:20270117T180000
DTEND:20270117T210000
DTSTAMP:20260421T121946
END:VEVENT
BEGIN:VEVENT
URL:https://coaching-supervision.jetzt/kurs/fuehren-beraten-handeln/
UID:18497191242@coaching-supervision.jetzt
LOCATION:Mattli in 6443 Morschach - Vierwaldstättersee
SUMMARY:SOUVERäN FüHREN – KOMPETENT BERATEN – SICHER HANDELN
DESCRIPTION:Meditation und Kontemplation\n---------------------------------------\nMenschen haben zwei Ohren und nur einen Mund.\n\nUnd doch reden wir oft mehr, als wir hören.\n\nWie das gemeinsame Meditieren von Bibeltexten die eigene Hörfähigkeit verfeinert.
CLASS:PUBLIC
DTSTART:20270118T090000
DTEND:20270118T210000
DTSTAMP:20260421T121946
END:VEVENT
BEGIN:VEVENT
URL:https://coaching-supervision.jetzt/kurs/fuehren-beraten-handeln/
UID:18497191243@coaching-supervision.jetzt
LOCATION:Mattli in 6443 Morschach - Vierwaldstättersee
SUMMARY:SOUVERäN FüHREN – KOMPETENT BERATEN – SICHER HANDELN
DESCRIPTION:Meditation und Kontemplation\n---------------------------------------\nMenschen haben zwei Ohren und nur einen Mund.\n\nUnd doch reden wir oft mehr, als wir hören.\n\nWie das gemeinsame Meditieren von Bibeltexten die eigene Hörfähigkeit verfeinert.
CLASS:PUBLIC
DTSTART:20270119T090000
DTEND:20270119T180000
DTSTAMP:20260421T121946
END:VEVENT
BEGIN:VEVENT
URL:https://coaching-supervision.jetzt/kurs/fuehren-beraten-handeln/
UID:18497191334@coaching-supervision.jetzt
LOCATION:Mattli in 6443 Morschach - Vierwaldstättersee
SUMMARY:SOUVERäN FüHREN – KOMPETENT BERATEN – SICHER HANDELN
DESCRIPTION:Führungskompetenz erweitern\n---------------------------------------\nMenschen, Gruppen und Organisationen zu führen ist anspruchsvoll.\n\nDoch was braucht es in welcher Situation?\n\nWelche Führung Menschen, Gruppen und Organisationen voranbringen.
CLASS:PUBLIC
DTSTART:20270221T180000
DTEND:20270221T210000
DTSTAMP:20260421T121946
END:VEVENT
BEGIN:VEVENT
URL:https://coaching-supervision.jetzt/kurs/fuehren-beraten-handeln/
UID:18497191335@coaching-supervision.jetzt
LOCATION:Mattli in 6443 Morschach - Vierwaldstättersee
SUMMARY:SOUVERäN FüHREN – KOMPETENT BERATEN – SICHER HANDELN
DESCRIPTION:Führungskompetenz erweitern\n---------------------------------------\nMenschen, Gruppen und Organisationen zu führen ist anspruchsvoll.\n\nDoch was braucht es in welcher Situation?\n\nWelche Führung Menschen, Gruppen und Organisationen voranbringen.
CLASS:PUBLIC
DTSTART:20270222T090000
DTEND:20270222T210000
DTSTAMP:20260421T121946
END:VEVENT
BEGIN:VEVENT
URL:https://coaching-supervision.jetzt/kurs/fuehren-beraten-handeln/
UID:18497191336@coaching-supervision.jetzt
LOCATION:Mattli in 6443 Morschach - Vierwaldstättersee
SUMMARY:SOUVERäN FüHREN – KOMPETENT BERATEN – SICHER HANDELN
DESCRIPTION:Führungskompetenz erweitern\n---------------------------------------\nMenschen, Gruppen und Organisationen zu führen ist anspruchsvoll.\n\nDoch was braucht es in welcher Situation?\n\nWelche Führung Menschen, Gruppen und Organisationen voranbringen.
CLASS:PUBLIC
DTSTART:20270223T000000
DTEND:20270223T180000
DTSTAMP:20260421T121946
END:VEVENT
BEGIN:VEVENT
URL:https://coaching-supervision.jetzt/kurs/fuehren-beraten-handeln/
UID:18497191367@coaching-supervision.jetzt
LOCATION:Mattli in 6443 Morschach - Vierwaldstättersee
SUMMARY:SOUVERäN FüHREN – KOMPETENT BERATEN – SICHER HANDELN
DESCRIPTION:Ansätze aus Life-Coaching, Coaching und Supervision nutzen\n---------------------------------------\nVom Ratschlag zur beraterischen Haltung.\n\nWann ist der Rat unnötig, unpassend oder gar entmündigend?\n\nWie im Life-Coaching der Balanceakt gelingt zwischen herauslockenden Fragen, gegenseitigem Wachsen und erhellenden Impulsen.
CLASS:PUBLIC
DTSTART:20270418T180000
DTEND:20270418T210000
DTSTAMP:20260421T121946
END:VEVENT
BEGIN:VEVENT
URL:https://coaching-supervision.jetzt/kurs/fuehren-beraten-handeln/
UID:18497191368@coaching-supervision.jetzt
LOCATION:Mattli in 6443 Morschach - Vierwaldstättersee
SUMMARY:SOUVERäN FüHREN – KOMPETENT BERATEN – SICHER HANDELN
DESCRIPTION:Ansätze aus Life-Coaching, Coaching und Supervision nutzen\n---------------------------------------\nVom Ratschlag zur beraterischen Haltung.\n\nWann ist der Rat unnötig, unpassend oder gar entmündigend?\n\nWie im Life-Coaching der Balanceakt gelingt zwischen herauslockenden Fragen, gegenseitigem Wachsen und erhellenden Impulsen.
CLASS:PUBLIC
DTSTART:20270419T090000
DTEND:20270419T210000
DTSTAMP:20260421T121946
END:VEVENT
BEGIN:VEVENT
URL:https://coaching-supervision.jetzt/kurs/fuehren-beraten-handeln/
UID:18497191369@coaching-supervision.jetzt
LOCATION:Mattli in 6443 Morschach - Vierwaldstättersee
SUMMARY:SOUVERäN FüHREN – KOMPETENT BERATEN – SICHER HANDELN
DESCRIPTION:Ansätze aus Life-Coaching, Coaching und Supervision nutzen\n---------------------------------------\nVom Ratschlag zur beraterischen Haltung.\n\nWann ist der Rat unnötig, unpassend oder gar entmündigend?\n\nWie im Life-Coaching der Balanceakt gelingt zwischen herauslockenden Fragen, gegenseitigem Wachsen und erhellenden Impulsen.
CLASS:PUBLIC
DTSTART:20270420T090000
DTEND:20270420T180000
DTSTAMP:20260421T121946
END:VEVENT
BEGIN:VEVENT
URL:https://coaching-supervision.jetzt/kurs/fuehren-beraten-handeln/
UID:184971913810@coaching-supervision.jetzt
LOCATION:Mattli in 6443 Morschach - Vierwaldstättersee
SUMMARY:SOUVERäN FüHREN – KOMPETENT BERATEN – SICHER HANDELN
DESCRIPTION:Unsicherheitstoleranz stärken\n---------------------------------------\nDie Unsicherheit mag weiter zunehmen.\n\nAber wie stelle ich mich der Ohnmacht?\n\nWie Mehrdeutigkeit, Ungewissheit, Wandel und Komplexität unser Denken herausfordern und erweitern.
CLASS:PUBLIC
DTSTART:20270627T180000
DTEND:20270627T210000
DTSTAMP:20260421T121946
END:VEVENT
BEGIN:VEVENT
URL:https://coaching-supervision.jetzt/kurs/fuehren-beraten-handeln/
UID:184971913811@coaching-supervision.jetzt
LOCATION:Mattli in 6443 Morschach - Vierwaldstättersee
SUMMARY:SOUVERäN FüHREN – KOMPETENT BERATEN – SICHER HANDELN
DESCRIPTION:Unsicherheitstoleranz stärken\n---------------------------------------\nDie Unsicherheit mag weiter zunehmen.\n\nAber wie stelle ich mich der Ohnmacht?\n\nWie Mehrdeutigkeit, Ungewissheit, Wandel und Komplexität unser Denken herausfordern und erweitern.
CLASS:PUBLIC
DTSTART:20270628T090000
DTEND:20270628T210000
DTSTAMP:20260421T121946
END:VEVENT
BEGIN:VEVENT
URL:https://coaching-supervision.jetzt/kurs/fuehren-beraten-handeln/
UID:184971913812@coaching-supervision.jetzt
LOCATION:Mattli in 6443 Morschach - Vierwaldstättersee
SUMMARY:SOUVERäN FüHREN – KOMPETENT BERATEN – SICHER HANDELN
DESCRIPTION:Unsicherheitstoleranz stärken\n---------------------------------------\nDie Unsicherheit mag weiter zunehmen.\n\nAber wie stelle ich mich der Ohnmacht?\n\nWie Mehrdeutigkeit, Ungewissheit, Wandel und Komplexität unser Denken herausfordern und erweitern.
CLASS:PUBLIC
DTSTART:20270629T090000
DTEND:20270629T180000
DTSTAMP:20260421T121946
END:VEVENT
BEGIN:VEVENT
URL:https://coaching-supervision.jetzt/kurs/fuehren-beraten-handeln/
UID:184971914013@coaching-supervision.jetzt
LOCATION:Mattli in 6443 Morschach - Vierwaldstättersee
SUMMARY:SOUVERäN FüHREN – KOMPETENT BERATEN – SICHER HANDELN
DESCRIPTION:Rollenverständnis und Authentizität entwickeln | Zwei Abschiede im Leben | Selbstbild & Gottesbild\n---------------------------------------\nMutter, Vater, Chefin, Untergebener, Freundin, Konsument,…\n\nWer bin ich – und wieviele?\n\nWie Selbst- und Rollenverständnis meine Authentizität bestimmen.\n\n------------------------------------\n\nDer Mensch lebt – und stirbt.\n\nAber wie lernen wir, uns dem Tod anzuvertrauen?\n\nWie der «kleine Schlaf» uns auf den grossen vorbereitet.\n\n------------------------------------\n\nDer Wandel des Selbstbildes und der Gottesvorstellung.\n\nWer wird der Mensch – und wer ist Gott für ihn?\n\nWie Selbstverständnis und Gottesbild einander erschliessen helfen.
CLASS:PUBLIC
DTSTART:20270919T180000
DTEND:20270919T210000
DTSTAMP:20260421T121946
END:VEVENT
BEGIN:VEVENT
URL:https://coaching-supervision.jetzt/kurs/fuehren-beraten-handeln/
UID:184971914014@coaching-supervision.jetzt
LOCATION:Mattli in 6443 Morschach - Vierwaldstättersee
SUMMARY:SOUVERäN FüHREN – KOMPETENT BERATEN – SICHER HANDELN
DESCRIPTION:Rollenverständnis und Authentizität entwickeln | Zwei Abschiede im Leben | Selbstbild & Gottesbild\n---------------------------------------\nMutter, Vater, Chefin, Untergebener, Freundin, Konsument,…\n\nWer bin ich – und wieviele?\n\nWie Selbst- und Rollenverständnis meine Authentizität bestimmen.\n\n------------------------------------\n\nDer Mensch lebt – und stirbt.\n\nAber wie lernen wir, uns dem Tod anzuvertrauen?\n\nWie der «kleine Schlaf» uns auf den grossen vorbereitet.\n\n------------------------------------\n\nDer Wandel des Selbstbildes und der Gottesvorstellung.\n\nWer wird der Mensch – und wer ist Gott für ihn?\n\nWie Selbstverständnis und Gottesbild einander erschliessen helfen.
CLASS:PUBLIC
DTSTART:20270920T090000
DTEND:20270920T210000
DTSTAMP:20260421T121946
END:VEVENT
BEGIN:VEVENT
URL:https://coaching-supervision.jetzt/kurs/fuehren-beraten-handeln/
UID:184971914015@coaching-supervision.jetzt
LOCATION:Mattli in 6443 Morschach - Vierwaldstättersee
SUMMARY:SOUVERäN FüHREN – KOMPETENT BERATEN – SICHER HANDELN
DESCRIPTION:Rollenverständnis und Authentizität entwickeln | Zwei Abschiede im Leben | Selbstbild & Gottesbild\n---------------------------------------\nMutter, Vater, Chefin, Untergebener, Freundin, Konsument,…\n\nWer bin ich – und wieviele?\n\nWie Selbst- und Rollenverständnis meine Authentizität bestimmen.\n\n------------------------------------\n\nDer Mensch lebt – und stirbt.\n\nAber wie lernen wir, uns dem Tod anzuvertrauen?\n\nWie der «kleine Schlaf» uns auf den grossen vorbereitet.\n\n------------------------------------\n\nDer Wandel des Selbstbildes und der Gottesvorstellung.\n\nWer wird der Mensch – und wer ist Gott für ihn?\n\nWie Selbstverständnis und Gottesbild einander erschliessen helfen.
CLASS:PUBLIC
DTSTART:20270921T090000
DTEND:20270921T210000
DTSTAMP:20260421T121946
END:VEVENT
BEGIN:VEVENT
URL:https://coaching-supervision.jetzt/kurs/fuehren-beraten-handeln/
UID:184971914016@coaching-supervision.jetzt
LOCATION:Mattli in 6443 Morschach - Vierwaldstättersee
SUMMARY:SOUVERäN FüHREN – KOMPETENT BERATEN – SICHER HANDELN
DESCRIPTION:Rollenverständnis und Authentizität entwickeln | Zwei Abschiede im Leben | Selbstbild & Gottesbild\n---------------------------------------\nMutter, Vater, Chefin, Untergebener, Freundin, Konsument,…\n\nWer bin ich – und wieviele?\n\nWie Selbst- und Rollenverständnis meine Authentizität bestimmen.\n\n------------------------------------\n\nDer Mensch lebt – und stirbt.\n\nAber wie lernen wir, uns dem Tod anzuvertrauen?\n\nWie der «kleine Schlaf» uns auf den grossen vorbereitet.\n\n------------------------------------\n\nDer Wandel des Selbstbildes und der Gottesvorstellung.\n\nWer wird der Mensch – und wer ist Gott für ihn?\n\nWie Selbstverständnis und Gottesbild einander erschliessen helfen.
CLASS:PUBLIC
DTSTART:20270922T090000
DTEND:20270922T210000
DTSTAMP:20260421T121946
END:VEVENT
BEGIN:VEVENT
URL:https://coaching-supervision.jetzt/kurs/fuehren-beraten-handeln/
UID:184971914017@coaching-supervision.jetzt
LOCATION:Mattli in 6443 Morschach - Vierwaldstättersee
SUMMARY:SOUVERäN FüHREN – KOMPETENT BERATEN – SICHER HANDELN
DESCRIPTION:Rollenverständnis und Authentizität entwickeln | Zwei Abschiede im Leben | Selbstbild & Gottesbild\n---------------------------------------\nMutter, Vater, Chefin, Untergebener, Freundin, Konsument,…\n\nWer bin ich – und wieviele?\n\nWie Selbst- und Rollenverständnis meine Authentizität bestimmen.\n\n------------------------------------\n\nDer Mensch lebt – und stirbt.\n\nAber wie lernen wir, uns dem Tod anzuvertrauen?\n\nWie der «kleine Schlaf» uns auf den grossen vorbereitet.\n\n------------------------------------\n\nDer Wandel des Selbstbildes und der Gottesvorstellung.\n\nWer wird der Mensch – und wer ist Gott für ihn?\n\nWie Selbstverständnis und Gottesbild einander erschliessen helfen.
CLASS:PUBLIC
DTSTART:20270923T090000
DTEND:20270923T210000
DTSTAMP:20260421T121946
END:VEVENT
BEGIN:VEVENT
URL:https://coaching-supervision.jetzt/kurs/fuehren-beraten-handeln/
UID:184971914018@coaching-supervision.jetzt
LOCATION:Mattli in 6443 Morschach - Vierwaldstättersee
SUMMARY:SOUVERäN FüHREN – KOMPETENT BERATEN – SICHER HANDELN
DESCRIPTION:Rollenverständnis und Authentizität entwickeln | Zwei Abschiede im Leben | Selbstbild & Gottesbild\n---------------------------------------\nMutter, Vater, Chefin, Untergebener, Freundin, Konsument,…\n\nWer bin ich – und wieviele?\n\nWie Selbst- und Rollenverständnis meine Authentizität bestimmen.\n\n------------------------------------\n\nDer Mensch lebt – und stirbt.\n\nAber wie lernen wir, uns dem Tod anzuvertrauen?\n\nWie der «kleine Schlaf» uns auf den grossen vorbereitet.\n\n------------------------------------\n\nDer Wandel des Selbstbildes und der Gottesvorstellung.\n\nWer wird der Mensch – und wer ist Gott für ihn?\n\nWie Selbstverständnis und Gottesbild einander erschliessen helfen.
CLASS:PUBLIC
DTSTART:20270924T090000
DTEND:20270924T180000
DTSTAMP:20260421T121946
END:VEVENT
BEGIN:VEVENT
URL:https://coaching-supervision.jetzt/kurs/fuehren-beraten-handeln/
UID:184971914219@coaching-supervision.jetzt
LOCATION:Mattli in 6443 Morschach - Vierwaldstättersee
SUMMARY:SOUVERäN FüHREN – KOMPETENT BERATEN – SICHER HANDELN
DESCRIPTION:Integrität leben\n---------------------------------------\nViele sprechen von Werten.\n\nEntscheidend ist, was im Leben sichtbar wird.\n\nWie eine Orientierungsmatrix hilft, Integrität in verschiedenen Lebensdimensionen zu fördern.
CLASS:PUBLIC
DTSTART:20271128T180000
DTEND:20271128T210000
DTSTAMP:20260421T121946
END:VEVENT
BEGIN:VEVENT
URL:https://coaching-supervision.jetzt/kurs/fuehren-beraten-handeln/
UID:184971914220@coaching-supervision.jetzt
LOCATION:Mattli in 6443 Morschach - Vierwaldstättersee
SUMMARY:SOUVERäN FüHREN – KOMPETENT BERATEN – SICHER HANDELN
DESCRIPTION:Integrität leben\n---------------------------------------\nViele sprechen von Werten.\n\nEntscheidend ist, was im Leben sichtbar wird.\n\nWie eine Orientierungsmatrix hilft, Integrität in verschiedenen Lebensdimensionen zu fördern.
CLASS:PUBLIC
DTSTART:20271129T090000
DTEND:20271129T210000
DTSTAMP:20260421T121946
END:VEVENT
BEGIN:VEVENT
URL:https://coaching-supervision.jetzt/kurs/fuehren-beraten-handeln/
UID:184971914221@coaching-supervision.jetzt
LOCATION:Mattli in 6443 Morschach - Vierwaldstättersee
SUMMARY:SOUVERäN FüHREN – KOMPETENT BERATEN – SICHER HANDELN
DESCRIPTION:Integrität leben\n---------------------------------------\nViele sprechen von Werten.\n\nEntscheidend ist, was im Leben sichtbar wird.\n\nWie eine Orientierungsmatrix hilft, Integrität in verschiedenen Lebensdimensionen zu fördern.
CLASS:PUBLIC
DTSTART:20271130T090000
DTEND:20271130T180000
DTSTAMP:20260421T121946
END:VEVENT
BEGIN:VEVENT
URL:https://coaching-supervision.jetzt/kurs/fuehren-beraten-handeln/
UID:184971914422@coaching-supervision.jetzt
LOCATION:Mattli in 6443 Morschach - Vierwaldstättersee
SUMMARY:SOUVERäN FüHREN – KOMPETENT BERATEN – SICHER HANDELN
DESCRIPTION:Systemisch-konstruktivistisches Denken entwickeln\n---------------------------------------\nMenschen ticken unterschiedlich.\n\n… und Organisationen?\n\nWie uns die Systemtheorie und der Konstruktivismus den Blick öffnet.
CLASS:PUBLIC
DTSTART:20280116T180000
DTEND:20280116T210000
DTSTAMP:20260421T121946
END:VEVENT
BEGIN:VEVENT
URL:https://coaching-supervision.jetzt/kurs/fuehren-beraten-handeln/
UID:184971914423@coaching-supervision.jetzt
LOCATION:Mattli in 6443 Morschach - Vierwaldstättersee
SUMMARY:SOUVERäN FüHREN – KOMPETENT BERATEN – SICHER HANDELN
DESCRIPTION:Systemisch-konstruktivistisches Denken entwickeln\n---------------------------------------\nMenschen ticken unterschiedlich.\n\n… und Organisationen?\n\nWie uns die Systemtheorie und der Konstruktivismus den Blick öffnet.
CLASS:PUBLIC
DTSTART:20280117T090000
DTEND:20280117T210000
DTSTAMP:20260421T121946
END:VEVENT
BEGIN:VEVENT
URL:https://coaching-supervision.jetzt/kurs/fuehren-beraten-handeln/
UID:184971914424@coaching-supervision.jetzt
LOCATION:Mattli in 6443 Morschach - Vierwaldstättersee
SUMMARY:SOUVERäN FüHREN – KOMPETENT BERATEN – SICHER HANDELN
DESCRIPTION:Systemisch-konstruktivistisches Denken entwickeln\n---------------------------------------\nMenschen ticken unterschiedlich.\n\n… und Organisationen?\n\nWie uns die Systemtheorie und der Konstruktivismus den Blick öffnet.
CLASS:PUBLIC
DTSTART:20280118T090000
DTEND:20280118T180000
DTSTAMP:20260421T121946
END:VEVENT
BEGIN:VEVENT
URL:https://coaching-supervision.jetzt/kurs/fuehren-beraten-handeln/
UID:184971914625@coaching-supervision.jetzt
LOCATION:Mattli in 6443 Morschach - Vierwaldstättersee
SUMMARY:SOUVERäN FüHREN – KOMPETENT BERATEN – SICHER HANDELN
DESCRIPTION:Paradoxien in der Beratung: Risiken und Chancen verstehen\n---------------------------------------\nHarte Nüsse knacken.\n\nWie man mit Lumpenlieder, Spott und Humor Schalen öffnet.\n\nWie systemische Ansätze zu verstehen und zu nutzen sind.
CLASS:PUBLIC
DTSTART:20280326T180000
DTEND:20280326T210000
DTSTAMP:20260421T121946
END:VEVENT
BEGIN:VEVENT
URL:https://coaching-supervision.jetzt/kurs/fuehren-beraten-handeln/
UID:184971914626@coaching-supervision.jetzt
LOCATION:Mattli in 6443 Morschach - Vierwaldstättersee
SUMMARY:SOUVERäN FüHREN – KOMPETENT BERATEN – SICHER HANDELN
DESCRIPTION:Paradoxien in der Beratung: Risiken und Chancen verstehen\n---------------------------------------\nHarte Nüsse knacken.\n\nWie man mit Lumpenlieder, Spott und Humor Schalen öffnet.\n\nWie systemische Ansätze zu verstehen und zu nutzen sind.
CLASS:PUBLIC
DTSTART:20280327T090000
DTEND:20280327T210000
DTSTAMP:20260421T121946
END:VEVENT
BEGIN:VEVENT
URL:https://coaching-supervision.jetzt/kurs/fuehren-beraten-handeln/
UID:184971914627@coaching-supervision.jetzt
LOCATION:Mattli in 6443 Morschach - Vierwaldstättersee
SUMMARY:SOUVERäN FüHREN – KOMPETENT BERATEN – SICHER HANDELN
DESCRIPTION:Paradoxien in der Beratung: Risiken und Chancen verstehen\n---------------------------------------\nHarte Nüsse knacken.\n\nWie man mit Lumpenlieder, Spott und Humor Schalen öffnet.\n\nWie systemische Ansätze zu verstehen und zu nutzen sind.
CLASS:PUBLIC
DTSTART:20280328T090000
DTEND:20280328T180000
DTSTAMP:20260421T121946
END:VEVENT
BEGIN:VEVENT
URL:https://coaching-supervision.jetzt/kurs/fuehren-beraten-handeln/
UID:184971914828@coaching-supervision.jetzt
LOCATION:Mattli in 6443 Morschach - Vierwaldstättersee
SUMMARY:SOUVERäN FüHREN – KOMPETENT BERATEN – SICHER HANDELN
DESCRIPTION:Resonanz – Einführung in Konzept und Praxis\n---------------------------------------\nJede Schneeflocke erzeugt eine Bewegung auf der Wasseroberfläche.\n\nAber wie gelingt es mir, die feinen Schwingungen meines Gegenübers aufzunehmen?\n\nWie Resonanz zum Heilmittel gegen Entfremdung wirkt.
CLASS:PUBLIC
DTSTART:20280528T180000
DTEND:20280528T210000
DTSTAMP:20260421T121946
END:VEVENT
BEGIN:VEVENT
URL:https://coaching-supervision.jetzt/kurs/fuehren-beraten-handeln/
UID:184971914829@coaching-supervision.jetzt
LOCATION:Mattli in 6443 Morschach - Vierwaldstättersee
SUMMARY:SOUVERäN FüHREN – KOMPETENT BERATEN – SICHER HANDELN
DESCRIPTION:Resonanz – Einführung in Konzept und Praxis\n---------------------------------------\nJede Schneeflocke erzeugt eine Bewegung auf der Wasseroberfläche.\n\nAber wie gelingt es mir, die feinen Schwingungen meines Gegenübers aufzunehmen?\n\nWie Resonanz zum Heilmittel gegen Entfremdung wirkt.
CLASS:PUBLIC
DTSTART:20280529T090000
DTEND:20280529T210000
DTSTAMP:20260421T121946
END:VEVENT
BEGIN:VEVENT
URL:https://coaching-supervision.jetzt/kurs/fuehren-beraten-handeln/
UID:184971914830@coaching-supervision.jetzt
LOCATION:Mattli in 6443 Morschach - Vierwaldstättersee
SUMMARY:SOUVERäN FüHREN – KOMPETENT BERATEN – SICHER HANDELN
DESCRIPTION:Resonanz – Einführung in Konzept und Praxis\n---------------------------------------\nJede Schneeflocke erzeugt eine Bewegung auf der Wasseroberfläche.\n\nAber wie gelingt es mir, die feinen Schwingungen meines Gegenübers aufzunehmen?\n\nWie Resonanz zum Heilmittel gegen Entfremdung wirkt.
CLASS:PUBLIC
DTSTART:20280530T090000
DTEND:20280530T180000
DTSTAMP:20260421T121946
END:VEVENT
BEGIN:VEVENT
URL:https://coaching-supervision.jetzt/kurs/fuehren-beraten-handeln/
UID:184971915031@coaching-supervision.jetzt
LOCATION:Mattli in 6443 Morschach - Vierwaldstättersee
SUMMARY:SOUVERäN FüHREN – KOMPETENT BERATEN – SICHER HANDELN
DESCRIPTION:Gruppendynamik erkennen und nutzen\n---------------------------------------\nEin Mensch ist schon komplex genug.\n\nUnd was geschieht erst in Gruppen?\n\nWie die Gruppendynamik Muster, Rollen und Kräfte in Gruppen sichtbar und nutzbar macht.
CLASS:PUBLIC
DTSTART:20280820T180000
DTEND:20280820T210000
DTSTAMP:20260421T121946
END:VEVENT
BEGIN:VEVENT
URL:https://coaching-supervision.jetzt/kurs/fuehren-beraten-handeln/
UID:184971915032@coaching-supervision.jetzt
LOCATION:Mattli in 6443 Morschach - Vierwaldstättersee
SUMMARY:SOUVERäN FüHREN – KOMPETENT BERATEN – SICHER HANDELN
DESCRIPTION:Gruppendynamik erkennen und nutzen\n---------------------------------------\nEin Mensch ist schon komplex genug.\n\nUnd was geschieht erst in Gruppen?\n\nWie die Gruppendynamik Muster, Rollen und Kräfte in Gruppen sichtbar und nutzbar macht.
CLASS:PUBLIC
DTSTART:20280821T090000
DTEND:20280821T210000
DTSTAMP:20260421T121946
END:VEVENT
BEGIN:VEVENT
URL:https://coaching-supervision.jetzt/kurs/fuehren-beraten-handeln/
UID:184971915033@coaching-supervision.jetzt
LOCATION:Mattli in 6443 Morschach - Vierwaldstättersee
SUMMARY:SOUVERäN FüHREN – KOMPETENT BERATEN – SICHER HANDELN
DESCRIPTION:Gruppendynamik erkennen und nutzen\n---------------------------------------\nEin Mensch ist schon komplex genug.\n\nUnd was geschieht erst in Gruppen?\n\nWie die Gruppendynamik Muster, Rollen und Kräfte in Gruppen sichtbar und nutzbar macht.
CLASS:PUBLIC
DTSTART:20280822T090000
DTEND:20280822T180000
DTSTAMP:20260421T121946
END:VEVENT
BEGIN:VEVENT
URL:https://coaching-supervision.jetzt/kurs/fuehren-beraten-handeln/
UID:184971915234@coaching-supervision.jetzt
LOCATION:Mattli in 6443 Morschach - Vierwaldstättersee
SUMMARY:SOUVERäN FüHREN – KOMPETENT BERATEN – SICHER HANDELN
DESCRIPTION:Single-Session-Beratung verstehen und nutzen\n---------------------------------------\nAus der Not eine Tugend machen.\n\nAber wie geht das bei Zeitnot?\n\nWas wir aus dem Single-Session-Ansatz für die Beratung lernen können.
CLASS:PUBLIC
DTSTART:20281029T180000
DTEND:20281029T210000
DTSTAMP:20260421T121946
END:VEVENT
BEGIN:VEVENT
URL:https://coaching-supervision.jetzt/kurs/fuehren-beraten-handeln/
UID:184971915235@coaching-supervision.jetzt
LOCATION:Mattli in 6443 Morschach - Vierwaldstättersee
SUMMARY:SOUVERäN FüHREN – KOMPETENT BERATEN – SICHER HANDELN
DESCRIPTION:Single-Session-Beratung verstehen und nutzen\n---------------------------------------\nAus der Not eine Tugend machen.\n\nAber wie geht das bei Zeitnot?\n\nWas wir aus dem Single-Session-Ansatz für die Beratung lernen können.
CLASS:PUBLIC
DTSTART:20281030T090000
DTEND:20281030T210000
DTSTAMP:20260421T121946
END:VEVENT
BEGIN:VEVENT
URL:https://coaching-supervision.jetzt/kurs/fuehren-beraten-handeln/
UID:184971915236@coaching-supervision.jetzt
LOCATION:Mattli in 6443 Morschach - Vierwaldstättersee
SUMMARY:SOUVERäN FüHREN – KOMPETENT BERATEN – SICHER HANDELN
DESCRIPTION:Single-Session-Beratung verstehen und nutzen\n---------------------------------------\nAus der Not eine Tugend machen.\n\nAber wie geht das bei Zeitnot?\n\nWas wir aus dem Single-Session-Ansatz für die Beratung lernen können.
CLASS:PUBLIC
DTSTART:20281031T090000
DTEND:20281031T180000
DTSTAMP:20260421T121946
END:VEVENT
BEGIN:VEVENT
URL:https://coaching-supervision.jetzt/kurs/fuehren-beraten-handeln/
UID:184971915437@coaching-supervision.jetzt
LOCATION:Mattli in 6443 Morschach - Vierwaldstättersee
SUMMARY:SOUVERäN FüHREN – KOMPETENT BERATEN – SICHER HANDELN
DESCRIPTION:Die zweite Lebenshälfte verstehen und gestalten\n---------------------------------------\nDie Lebensmitte ist eine Chance.\n\nDoch wie lässt sie sich ergreifen, wenn wir das Leben vorwärts leben, aber erst rückwärts verstehen (Kierkegaard)?\n\nWie durch Reflexion neue Orientierung für die zweite Lebenshälfte gewonnen werden kann.
CLASS:PUBLIC
DTSTART:20281203T180000
DTEND:20281203T210000
DTSTAMP:20260421T121946
END:VEVENT
BEGIN:VEVENT
URL:https://coaching-supervision.jetzt/kurs/fuehren-beraten-handeln/
UID:184971915438@coaching-supervision.jetzt
LOCATION:Mattli in 6443 Morschach - Vierwaldstättersee
SUMMARY:SOUVERäN FüHREN – KOMPETENT BERATEN – SICHER HANDELN
DESCRIPTION:Die zweite Lebenshälfte verstehen und gestalten\n---------------------------------------\nDie Lebensmitte ist eine Chance.\n\nDoch wie lässt sie sich ergreifen, wenn wir das Leben vorwärts leben, aber erst rückwärts verstehen (Kierkegaard)?\n\nWie durch Reflexion neue Orientierung für die zweite Lebenshälfte gewonnen werden kann.
CLASS:PUBLIC
DTSTART:20281204T090000
DTEND:20281204T210000
DTSTAMP:20260421T121946
END:VEVENT
BEGIN:VEVENT
URL:https://coaching-supervision.jetzt/kurs/fuehren-beraten-handeln/
UID:184971915439@coaching-supervision.jetzt
LOCATION:Mattli in 6443 Morschach - Vierwaldstättersee
SUMMARY:SOUVERäN FüHREN – KOMPETENT BERATEN – SICHER HANDELN
DESCRIPTION:Die zweite Lebenshälfte verstehen und gestalten\n---------------------------------------\nDie Lebensmitte ist eine Chance.\n\nDoch wie lässt sie sich ergreifen, wenn wir das Leben vorwärts leben, aber erst rückwärts verstehen (Kierkegaard)?\n\nWie durch Reflexion neue Orientierung für die zweite Lebenshälfte gewonnen werden kann.
CLASS:PUBLIC
DTSTART:20281205T090000
DTEND:20281205T180000
DTSTAMP:20260421T121946
END:VEVENT
BEGIN:VEVENT
URL:https://coaching-supervision.jetzt/kurs/fuehren-beraten-handeln/
UID:184973@coaching-supervision.jetzt
SUMMARY:ERINNERUNG KURSANMELDUNG SOUVERäN FüHREN – KOMPETENT BERATEN – SICHER HANDELN (3 MONATE VOR ANMELDESCHLUSS)
CLASS:PUBLIC
BEGIN:VALARM
TRIGGER:-PT0M
REPEAT:1
DURATION:PT15M
ACTION:DISPLAY
DESCRIPTION:ERINNERUNG
END:VALARM
DTSTART:20260901T120000
DTEND:20260901T120000
DTSTAMP:20260421T121946
END:VEVENT
BEGIN:VEVENT
URL:https://coaching-supervision.jetzt/kurs/fuehren-beraten-handeln/
UID:184972@coaching-supervision.jetzt
SUMMARY:ERINNERUNG KURSANMELDUNG SOUVERäN FüHREN – KOMPETENT BERATEN – SICHER HANDELN (2 MONATE VOR ANMELDESCHLUSS)
CLASS:PUBLIC
BEGIN:VALARM
TRIGGER:-PT0M
REPEAT:1
DURATION:PT15M
ACTION:DISPLAY
DESCRIPTION:ERINNERUNG
END:VALARM
DTSTART:20261001T120000
DTEND:20261001T120000
DTSTAMP:20260421T121946
END:VEVENT
BEGIN:VEVENT
URL:https://coaching-supervision.jetzt/kurs/fuehren-beraten-handeln/
UID:184971@coaching-supervision.jetzt
SUMMARY:ERINNERUNG KURSANMELDUNG SOUVERäN FüHREN – KOMPETENT BERATEN – SICHER HANDELN (1 MONAT VOR ANMELDESCHLUSS)
CLASS:PUBLIC
BEGIN:VALARM
TRIGGER:-PT0M
REPEAT:1
DURATION:PT15M
ACTION:DISPLAY
DESCRIPTION:ERINNERUNG
END:VALARM
DTSTART:20261101T120000
DTEND:20261101T120000
DTSTAMP:20260421T121946
END:VEVENT
END:VCALENDAR